BEGIN:VCALENDAR
VERSION:2.0
PRODID:-//destination.one//NONSGML destination.meta API//DE
X-WR-CALDESC:A calendar powered by destination.meta
X-WR-CALNAME:grafschaft-bentheim-tourismus Kalender via destination.meta
BEGIN:VEVENT
CATEGORIES:Kindertheater
CATEGORIES:Theater sonstige
DESCRIPTION:Die Aktion Mensch fördert ein besonderes Theaterprojekt im Unab
 hängigen Jugendzentrum Komplex Schüttorf e. V.\n\nmehr Informationen unter
  http://pages.destination.one/de/grafschaft-bentheim-tourismus/streaming/d
 etail/Event/e_101259764/wolkenroller-alice-im-wunderland
DTEND;TZID=Europe/Berlin:20260626T235900
DTSTAMP:20260423T100858Z
DTSTART;TZID=Europe/Berlin:20260626T180000
GEO:52.318577;7.209840
LOCATION:Theater der Obergrafschaft\, Hermann-Schlikker-Str. 1 - 3\, Schütt
 orf
ORGANIZER;CN=Jugend- und Kulturzentrum Komplex Schüttorf :mailto:info@kompl
 ex-schuettorf.de
SEQUENCE:0
SUMMARY:Wolkenroller – Alice im Wunderland
UID:e_101259764_iv0
URL:http://pages.destination.one/de/grafschaft-bentheim-tourismus/streaming
 /detail/Event/e_101259764/wolkenroller-alice-im-wunderland
END:VEVENT
BEGIN:VEVENT
CATEGORIES:Kindertheater
CATEGORIES:Theater sonstige
DESCRIPTION:Die Aktion Mensch fördert ein besonderes Theaterprojekt im Unab
 hängigen Jugendzentrum Komplex Schüttorf e. V.\n\nmehr Informationen unter
  http://pages.destination.one/de/grafschaft-bentheim-tourismus/streaming/d
 etail/Event/e_101259764/wolkenroller-alice-im-wunderland
DTEND;TZID=Europe/Berlin:20260628T235900
DTSTAMP:20260423T100858Z
DTSTART;TZID=Europe/Berlin:20260628T180000
GEO:52.318577;7.209840
LOCATION:Theater der Obergrafschaft\, Hermann-Schlikker-Str. 1 - 3\, Schütt
 orf
ORGANIZER;CN=Jugend- und Kulturzentrum Komplex Schüttorf :mailto:info@kompl
 ex-schuettorf.de
SEQUENCE:0
SUMMARY:Wolkenroller – Alice im Wunderland
UID:e_101259764_iv1
URL:http://pages.destination.one/de/grafschaft-bentheim-tourismus/streaming
 /detail/Event/e_101259764/wolkenroller-alice-im-wunderland
END:VEVENT
BEGIN:VTIMEZONE
TZID:Europe/Berlin
X-LIC-LOCATION:Europe/Berlin
BEGIN:DAYLIGHT
DTSTART:19700329T020000
RRULE:FREQ=YEARLY;BYDAY=-1SU;BYMONTH=3
TZNAME:CEST
TZOFFSETFROM:+0100
TZOFFSETTO:+0200
END:DAYLIGHT
BEGIN:STANDARD
DTSTART:19701025T030000
RRULE:FREQ=YEARLY;BYDAY=-1SU;BYMONTH=10
TZNAME:CET
TZOFFSETFROM:+0200
TZOFFSETTO:+0100
END:STANDARD
END:VTIMEZONE
END:VCALENDAR
