BEGIN:VCALENDAR
VERSION:2.0
PRODID:-//destination.one//NONSGML destination.meta API//DE
X-WR-CALDESC:A calendar powered by destination.meta
X-WR-CALNAME:grafschaft-bentheim-tourismus Kalender via destination.meta
BEGIN:VEVENT
CATEGORIES:Lesung
DESCRIPTION:\n\nmehr Informationen unter http://pages.destination.one/de/gr
 afschaft-bentheim-tourismus/streaming/detail/Event/e_101257707/grafschaft-
 krimi-lesung-ohne-fu-mit-autorin-nicole-vollbrecht-in-der-kornm-hle
DTEND;TZID=Europe/Berlin:20260506T210000
DTSTAMP:20260421T084456Z
DTSTART;TZID=Europe/Berlin:20260506T190000
GEO:52.434694;7.068972
LOCATION:Kornmühle Nordhorn\, Mühlendamm\, Nordhorn
ORGANIZER;CN=Lila Spätlese:mailto:Nicolevollbrecht@gmx.de
SEQUENCE:0
SUMMARY:Grafschaft-Krimi-Lesung „Ohne Fuß“ mit Autorin Nicole Vollbrecht in
  der Kornmühle
UID:e_101257707_iv0
URL:http://pages.destination.one/de/grafschaft-bentheim-tourismus/streaming
 /detail/Event/e_101257707/grafschaft-krimi-lesung-ohne-fu-mit-autorin-nico
 le-vollbrecht-in-der-kornm-hle
END:VEVENT
BEGIN:VTIMEZONE
TZID:Europe/Berlin
X-LIC-LOCATION:Europe/Berlin
BEGIN:DAYLIGHT
DTSTART:19700329T020000
RRULE:FREQ=YEARLY;BYDAY=-1SU;BYMONTH=3
TZNAME:CEST
TZOFFSETFROM:+0100
TZOFFSETTO:+0200
END:DAYLIGHT
BEGIN:STANDARD
DTSTART:19701025T030000
RRULE:FREQ=YEARLY;BYDAY=-1SU;BYMONTH=10
TZNAME:CET
TZOFFSETFROM:+0200
TZOFFSETTO:+0100
END:STANDARD
END:VTIMEZONE
END:VCALENDAR
