BEGIN:VCALENDAR
VERSION:2.0
PRODID:-//destination.one//NONSGML destination.meta API//DE
X-WR-CALDESC:A calendar powered by destination.meta
X-WR-CALNAME:grafschaft-bentheim-tourismus Kalender via destination.meta
BEGIN:VEVENT
CATEGORIES:Ballett
DESCRIPTION:Nicht nur für Musical-Liebhaber\n\nmehr Informationen unter htt
 p://pages.destination.one/de/grafschaft-bentheim-tourismus/streaming/detai
 l/Event/e_101256734/musicals-2026-die-tanzshow
DTEND;TZID=Europe/Berlin:20260510T235900
DTSTAMP:20260421T084432Z
DTSTART;TZID=Europe/Berlin:20260510T150000
GEO:52.318577;7.209840
LOCATION:Theater der Obergrafschaft\, Hermann-Schlikker-Str. 1 - 3\, Schütt
 orf
ORGANIZER;CN=Ballettschule Samson Cabantac Rheine:mailto:ballettschule_sc@t
 -online.de
SEQUENCE:0
SUMMARY:Musicals 2026 – Die Tanzshow
UID:e_101256734_iv0
URL:http://pages.destination.one/de/grafschaft-bentheim-tourismus/streaming
 /detail/Event/e_101256734/musicals-2026-die-tanzshow
END:VEVENT
BEGIN:VTIMEZONE
TZID:Europe/Berlin
X-LIC-LOCATION:Europe/Berlin
BEGIN:DAYLIGHT
DTSTART:19700329T020000
RRULE:FREQ=YEARLY;BYDAY=-1SU;BYMONTH=3
TZNAME:CEST
TZOFFSETFROM:+0100
TZOFFSETTO:+0200
END:DAYLIGHT
BEGIN:STANDARD
DTSTART:19701025T030000
RRULE:FREQ=YEARLY;BYDAY=-1SU;BYMONTH=10
TZNAME:CET
TZOFFSETFROM:+0200
TZOFFSETTO:+0100
END:STANDARD
END:VTIMEZONE
END:VCALENDAR
