BEGIN:VCALENDAR
VERSION:2.0
PRODID:-//destination.one//NONSGML destination.meta API//DE
X-WR-CALDESC:A calendar powered by destination.meta
X-WR-CALNAME:grafschaft-bentheim-tourismus Kalender via destination.meta
BEGIN:VEVENT
CATEGORIES:Konzert
DESCRIPTION:\n\nmehr Informationen unter http://pages.destination.one/de/gr
 afschaft-bentheim-tourismus/streaming/detail/Event/e_101223184/musiktheate
 r-hennekens-hof-veranstaltungsreihe-2026
DTEND;TZID=Europe/Berlin:20260315T235900
DTSTAMP:20260421T104434Z
DTSTART;TZID=Europe/Berlin:20260315T153000
GEO:52.300921;7.153816
LOCATION:Musiktheater Hennekens Hof\, Wilhelmstr. 40\, Bad Bentheim
ORGANIZER;CN=Musiktheater Hennekens Hof:mailto:info@hennekenshof.de
SEQUENCE:0
SUMMARY:Musiktheater "Hennekens Hof" - Veranstaltungsreihe 2026
UID:e_101223184_iv0
URL:http://pages.destination.one/de/grafschaft-bentheim-tourismus/streaming
 /detail/Event/e_101223184/musiktheater-hennekens-hof-veranstaltungsreihe-2
 026
END:VEVENT
BEGIN:VEVENT
CATEGORIES:Konzert
DESCRIPTION:\n\nmehr Informationen unter http://pages.destination.one/de/gr
 afschaft-bentheim-tourismus/streaming/detail/Event/e_101223184/musiktheate
 r-hennekens-hof-veranstaltungsreihe-2026
DTEND;TZID=Europe/Berlin:20260517T235900
DTSTAMP:20260421T104434Z
DTSTART;TZID=Europe/Berlin:20260517T153000
GEO:52.300921;7.153816
LOCATION:Musiktheater Hennekens Hof\, Wilhelmstr. 40\, Bad Bentheim
ORGANIZER;CN=Musiktheater Hennekens Hof:mailto:info@hennekenshof.de
SEQUENCE:0
SUMMARY:Musiktheater "Hennekens Hof" - Veranstaltungsreihe 2026
UID:e_101223184_iv1
URL:http://pages.destination.one/de/grafschaft-bentheim-tourismus/streaming
 /detail/Event/e_101223184/musiktheater-hennekens-hof-veranstaltungsreihe-2
 026
END:VEVENT
BEGIN:VEVENT
CATEGORIES:Konzert
DESCRIPTION:\n\nmehr Informationen unter http://pages.destination.one/de/gr
 afschaft-bentheim-tourismus/streaming/detail/Event/e_101223184/musiktheate
 r-hennekens-hof-veranstaltungsreihe-2026
DTEND;TZID=Europe/Berlin:20260614T235900
DTSTAMP:20260421T104434Z
DTSTART;TZID=Europe/Berlin:20260614T153000
GEO:52.300921;7.153816
LOCATION:Musiktheater Hennekens Hof\, Wilhelmstr. 40\, Bad Bentheim
ORGANIZER;CN=Musiktheater Hennekens Hof:mailto:info@hennekenshof.de
SEQUENCE:0
SUMMARY:Musiktheater "Hennekens Hof" - Veranstaltungsreihe 2026
UID:e_101223184_iv2
URL:http://pages.destination.one/de/grafschaft-bentheim-tourismus/streaming
 /detail/Event/e_101223184/musiktheater-hennekens-hof-veranstaltungsreihe-2
 026
END:VEVENT
BEGIN:VEVENT
CATEGORIES:Konzert
DESCRIPTION:\n\nmehr Informationen unter http://pages.destination.one/de/gr
 afschaft-bentheim-tourismus/streaming/detail/Event/e_101223184/musiktheate
 r-hennekens-hof-veranstaltungsreihe-2026
DTEND;TZID=Europe/Berlin:20260913T235900
DTSTAMP:20260421T104434Z
DTSTART;TZID=Europe/Berlin:20260913T160000
GEO:52.300921;7.153816
LOCATION:Musiktheater Hennekens Hof\, Wilhelmstr. 40\, Bad Bentheim
ORGANIZER;CN=Musiktheater Hennekens Hof:mailto:info@hennekenshof.de
SEQUENCE:0
SUMMARY:Musiktheater "Hennekens Hof" - Veranstaltungsreihe 2026
UID:e_101223184_iv3
URL:http://pages.destination.one/de/grafschaft-bentheim-tourismus/streaming
 /detail/Event/e_101223184/musiktheater-hennekens-hof-veranstaltungsreihe-2
 026
END:VEVENT
BEGIN:VEVENT
CATEGORIES:Konzert
DESCRIPTION:\n\nmehr Informationen unter http://pages.destination.one/de/gr
 afschaft-bentheim-tourismus/streaming/detail/Event/e_101223184/musiktheate
 r-hennekens-hof-veranstaltungsreihe-2026
DTEND;TZID=Europe/Berlin:20261108T235900
DTSTAMP:20260421T104434Z
DTSTART;TZID=Europe/Berlin:20261108T153000
GEO:52.300921;7.153816
LOCATION:Musiktheater Hennekens Hof\, Wilhelmstr. 40\, Bad Bentheim
ORGANIZER;CN=Musiktheater Hennekens Hof:mailto:info@hennekenshof.de
SEQUENCE:0
SUMMARY:Musiktheater "Hennekens Hof" - Veranstaltungsreihe 2026
UID:e_101223184_iv4
URL:http://pages.destination.one/de/grafschaft-bentheim-tourismus/streaming
 /detail/Event/e_101223184/musiktheater-hennekens-hof-veranstaltungsreihe-2
 026
END:VEVENT
BEGIN:VTIMEZONE
TZID:Europe/Berlin
X-LIC-LOCATION:Europe/Berlin
BEGIN:DAYLIGHT
DTSTART:19700329T020000
RRULE:FREQ=YEARLY;BYDAY=-1SU;BYMONTH=3
TZNAME:CEST
TZOFFSETFROM:+0100
TZOFFSETTO:+0200
END:DAYLIGHT
BEGIN:STANDARD
DTSTART:19701025T030000
RRULE:FREQ=YEARLY;BYDAY=-1SU;BYMONTH=10
TZNAME:CET
TZOFFSETFROM:+0200
TZOFFSETTO:+0100
END:STANDARD
END:VTIMEZONE
END:VCALENDAR
