BEGIN:VCALENDAR
VERSION:2.0
PRODID:-//destination.one//NONSGML destination.meta API//DE
X-WR-CALDESC:A calendar powered by destination.meta
X-WR-CALNAME:grafschaft-bentheim-tourismus Kalender via destination.meta
BEGIN:VEVENT
CATEGORIES:Comedy
DESCRIPTION:\n\nmehr Informationen unter http://pages.destination.one/de/gr
 afschaft-bentheim-tourismus/streaming/detail/Event/e_101223064/markus-kreb
 s-open-air-show-nordhorn
DTEND;TZID=Europe/Berlin:20260816T235900
DTSTAMP:20260420T113940Z
DTSTART;TZID=Europe/Berlin:20260816T190000
GEO:52.409645;7.085409
LOCATION:Bentheimer Eisenbahn AG\, Otto-Hahn-Str. 1\, Nordhorn
ORGANIZER;CN=Bentheimer Eisenbahn AG:mailto:info@bentheimer-eisenbahn.de
SEQUENCE:0
SUMMARY:Markus Krebs Open Air Show Nordhorn
UID:e_101223064_iv0
URL:http://pages.destination.one/de/grafschaft-bentheim-tourismus/streaming
 /detail/Event/e_101223064/markus-krebs-open-air-show-nordhorn
END:VEVENT
BEGIN:VTIMEZONE
TZID:Europe/Berlin
X-LIC-LOCATION:Europe/Berlin
BEGIN:DAYLIGHT
DTSTART:19700329T020000
RRULE:FREQ=YEARLY;BYDAY=-1SU;BYMONTH=3
TZNAME:CEST
TZOFFSETFROM:+0100
TZOFFSETTO:+0200
END:DAYLIGHT
BEGIN:STANDARD
DTSTART:19701025T030000
RRULE:FREQ=YEARLY;BYDAY=-1SU;BYMONTH=10
TZNAME:CET
TZOFFSETFROM:+0200
TZOFFSETTO:+0100
END:STANDARD
END:VTIMEZONE
END:VCALENDAR
