BEGIN:VCALENDAR
VERSION:2.0
PRODID:-//destination.one//NONSGML destination.meta API//DE
X-WR-CALDESC:A calendar powered by destination.meta
X-WR-CALNAME:grafschaft-bentheim-tourismus Kalender via destination.meta
BEGIN:VEVENT
CATEGORIES:Konzert
DESCRIPTION:\n\nmehr Informationen unter http://pages.destination.one/de/gr
 afschaft-bentheim-tourismus/streaming/detail/Event/e_101223051/dieter-bohl
 en-sommer-open-air-2026
DTEND;TZID=Europe/Berlin:20260815T235900
DTSTAMP:20260423T085222Z
DTSTART;TZID=Europe/Berlin:20260815T200000
GEO:52.409645;7.085409
LOCATION:Bentheimer Eisenbahn AG\, Otto-Hahn-Str. 1\, Nordhorn
ORGANIZER;CN=Bentheimer Eisenbahn AG:mailto:info@bentheimer-eisenbahn.de
SEQUENCE:0
SUMMARY:Dieter Bohlen Sommer Open Air 2026
UID:e_101223051_iv0
URL:http://pages.destination.one/de/grafschaft-bentheim-tourismus/streaming
 /detail/Event/e_101223051/dieter-bohlen-sommer-open-air-2026
END:VEVENT
BEGIN:VTIMEZONE
TZID:Europe/Berlin
X-LIC-LOCATION:Europe/Berlin
BEGIN:DAYLIGHT
DTSTART:19700329T020000
RRULE:FREQ=YEARLY;BYDAY=-1SU;BYMONTH=3
TZNAME:CEST
TZOFFSETFROM:+0100
TZOFFSETTO:+0200
END:DAYLIGHT
BEGIN:STANDARD
DTSTART:19701025T030000
RRULE:FREQ=YEARLY;BYDAY=-1SU;BYMONTH=10
TZNAME:CET
TZOFFSETFROM:+0200
TZOFFSETTO:+0100
END:STANDARD
END:VTIMEZONE
END:VCALENDAR
