BEGIN:VCALENDAR
VERSION:2.0
PRODID:-//destination.one//NONSGML destination.meta API//DE
X-WR-CALDESC:A calendar powered by destination.meta
X-WR-CALNAME:grafschaft-bentheim-tourismus Kalender via destination.meta
BEGIN:VEVENT
CATEGORIES:Kunsthandwerkermarkt
DESCRIPTION:\n\nmehr Informationen unter http://pages.destination.one/de/gr
 afschaft-bentheim-tourismus/streaming/detail/Event/e_101221758/sp-tsommer-
 im-hanenhueske-der-etwas-andere-markt
DTEND;TZID=Europe/Berlin:20260830T170000
DTSTAMP:20260423T085238Z
DTSTART;TZID=Europe/Berlin:20260830T110000
GEO:52.449100;7.051800
LOCATION:Nordhorn\, \, 
ORGANIZER;CN=Silke  Lambert:mailto:info@glueckskoffer.com
SEQUENCE:0
SUMMARY:Spätsommer im Hanenhueske...der etwas andere Markt
UID:e_101221758_iv0
URL:http://pages.destination.one/de/grafschaft-bentheim-tourismus/streaming
 /detail/Event/e_101221758/sp-tsommer-im-hanenhueske-der-etwas-andere-markt
END:VEVENT
BEGIN:VTIMEZONE
TZID:Europe/Berlin
X-LIC-LOCATION:Europe/Berlin
BEGIN:DAYLIGHT
DTSTART:19700329T020000
RRULE:FREQ=YEARLY;BYDAY=-1SU;BYMONTH=3
TZNAME:CEST
TZOFFSETFROM:+0100
TZOFFSETTO:+0200
END:DAYLIGHT
BEGIN:STANDARD
DTSTART:19701025T030000
RRULE:FREQ=YEARLY;BYDAY=-1SU;BYMONTH=10
TZNAME:CET
TZOFFSETFROM:+0200
TZOFFSETTO:+0100
END:STANDARD
END:VTIMEZONE
END:VCALENDAR
