BEGIN:VCALENDAR
VERSION:2.0
PRODID:-//destination.one//NONSGML destination.meta API//DE
X-WR-CALDESC:A calendar powered by destination.meta
X-WR-CALNAME:grafschaft-bentheim-tourismus Kalender via destination.meta
BEGIN:VEVENT
CATEGORIES:Bühnenkunst
CATEGORIES:Familien/Kinder sonstige
CATEGORIES:Kindertag
CATEGORIES:Kindertheater
CATEGORIES:Show sonstige
DESCRIPTION:\n\nmehr Informationen unter http://pages.destination.one/de/gr
 afschaft-bentheim-tourismus/streaming/detail/Event/e_101186146/eine-magisc
 he-elfenmission-familien-zaubershow-von-und-mit-linus-faber
DTEND;TZID=Europe/Berlin:20261220T235900
DTSTAMP:20260421T085226Z
DTSTART;TZID=Europe/Berlin:20261220T160000
GEO:52.432231;7.075088
LOCATION:Kulturzentrum Alte Weberei\, Vechteaue 2\, Nordhorn
SEQUENCE:0
SUMMARY:Eine magische Elfenmission – Familien-Zaubershow von und mit Linus 
 Faber
UID:e_101186146_iv0
URL:http://pages.destination.one/de/grafschaft-bentheim-tourismus/streaming
 /detail/Event/e_101186146/eine-magische-elfenmission-familien-zaubershow-v
 on-und-mit-linus-faber
END:VEVENT
BEGIN:VTIMEZONE
TZID:Europe/Berlin
X-LIC-LOCATION:Europe/Berlin
BEGIN:DAYLIGHT
DTSTART:19700329T020000
RRULE:FREQ=YEARLY;BYDAY=-1SU;BYMONTH=3
TZNAME:CEST
TZOFFSETFROM:+0100
TZOFFSETTO:+0200
END:DAYLIGHT
BEGIN:STANDARD
DTSTART:19701025T030000
RRULE:FREQ=YEARLY;BYDAY=-1SU;BYMONTH=10
TZNAME:CET
TZOFFSETFROM:+0200
TZOFFSETTO:+0100
END:STANDARD
END:VTIMEZONE
END:VCALENDAR
