BEGIN:VCALENDAR
VERSION:2.0
PRODID:-//destination.one//NONSGML destination.meta API//DE
X-WR-CALDESC:A calendar powered by destination.meta
X-WR-CALNAME:grafschaft-bentheim-tourismus Kalender via destination.meta
BEGIN:VEVENT
CATEGORIES:Begegnungsangebote
CATEGORIES:Branchenmesse
CATEGORIES:Bürgerangebote sonstige
CATEGORIES:Fachmesse
CATEGORIES:Information & Beratung
CATEGORIES:Messe sonstige
CATEGORIES:Verbrauchermesse
DESCRIPTION:\n\nmehr Informationen unter http://pages.destination.one/de/gr
 afschaft-bentheim-tourismus/streaming/detail/Event/e_101186138/lebens-t-r-
 ume-messe
DTEND;TZID=Europe/Berlin:20261106T180000
DTSTAMP:20260421T084729Z
DTSTART;TZID=Europe/Berlin:20261106T140000
GEO:52.432231;7.075088
LOCATION:Kulturzentrum Alte Weberei\, Vechteaue 2\, Nordhorn
SEQUENCE:0
SUMMARY:Lebens(t)räume Messe
UID:e_101186138_iv0
URL:http://pages.destination.one/de/grafschaft-bentheim-tourismus/streaming
 /detail/Event/e_101186138/lebens-t-r-ume-messe
END:VEVENT
BEGIN:VEVENT
CATEGORIES:Begegnungsangebote
CATEGORIES:Branchenmesse
CATEGORIES:Bürgerangebote sonstige
CATEGORIES:Fachmesse
CATEGORIES:Information & Beratung
CATEGORIES:Messe sonstige
CATEGORIES:Verbrauchermesse
DESCRIPTION:\n\nmehr Informationen unter http://pages.destination.one/de/gr
 afschaft-bentheim-tourismus/streaming/detail/Event/e_101186138/lebens-t-r-
 ume-messe
DTEND;TZID=Europe/Berlin:20261107T180000
DTSTAMP:20260421T084729Z
DTSTART;TZID=Europe/Berlin:20261107T100000
GEO:52.432231;7.075088
LOCATION:Kulturzentrum Alte Weberei\, Vechteaue 2\, Nordhorn
SEQUENCE:0
SUMMARY:Lebens(t)räume Messe
UID:e_101186138_iv1
URL:http://pages.destination.one/de/grafschaft-bentheim-tourismus/streaming
 /detail/Event/e_101186138/lebens-t-r-ume-messe
END:VEVENT
BEGIN:VEVENT
CATEGORIES:Begegnungsangebote
CATEGORIES:Branchenmesse
CATEGORIES:Bürgerangebote sonstige
CATEGORIES:Fachmesse
CATEGORIES:Information & Beratung
CATEGORIES:Messe sonstige
CATEGORIES:Verbrauchermesse
DESCRIPTION:\n\nmehr Informationen unter http://pages.destination.one/de/gr
 afschaft-bentheim-tourismus/streaming/detail/Event/e_101186138/lebens-t-r-
 ume-messe
DTEND;TZID=Europe/Berlin:20261108T180000
DTSTAMP:20260421T084729Z
DTSTART;TZID=Europe/Berlin:20261108T100000
GEO:52.432231;7.075088
LOCATION:Kulturzentrum Alte Weberei\, Vechteaue 2\, Nordhorn
SEQUENCE:0
SUMMARY:Lebens(t)räume Messe
UID:e_101186138_iv2
URL:http://pages.destination.one/de/grafschaft-bentheim-tourismus/streaming
 /detail/Event/e_101186138/lebens-t-r-ume-messe
END:VEVENT
BEGIN:VTIMEZONE
TZID:Europe/Berlin
X-LIC-LOCATION:Europe/Berlin
BEGIN:DAYLIGHT
DTSTART:19700329T020000
RRULE:FREQ=YEARLY;BYDAY=-1SU;BYMONTH=3
TZNAME:CEST
TZOFFSETFROM:+0100
TZOFFSETTO:+0200
END:DAYLIGHT
BEGIN:STANDARD
DTSTART:19701025T030000
RRULE:FREQ=YEARLY;BYDAY=-1SU;BYMONTH=10
TZNAME:CET
TZOFFSETFROM:+0200
TZOFFSETTO:+0100
END:STANDARD
END:VTIMEZONE
END:VCALENDAR
