BEGIN:VCALENDAR
VERSION:2.0
PRODID:-//destination.one//NONSGML destination.meta API//DE
X-WR-CALDESC:A calendar powered by destination.meta
X-WR-CALNAME:grafschaft-bentheim-tourismus Kalender via destination.meta
BEGIN:VEVENT
CATEGORIES:Besichtigung & Führung sonstige
CATEGORIES:Bildung sonstige
CATEGORIES:Fotowalk
CATEGORIES:Kunst und Kultur sonstige
CATEGORIES:Reisen
CATEGORIES:Vortrag\, Diskussion\, Lesung sonstige
CATEGORIES:Wanderausstellung
DESCRIPTION:\n\nmehr Informationen unter http://pages.destination.one/de/gr
 afschaft-bentheim-tourismus/streaming/detail/Event/e_101186129/multivision
 sshow-mit-ralf-schwan-in-indonesien
DTEND;TZID=Europe/Berlin:20261023T235900
DTSTAMP:20260420T103351Z
DTSTART;TZID=Europe/Berlin:20261023T200000
GEO:52.432231;7.075088
LOCATION:Kulturzentrum Alte Weberei\, Vechteaue 2\, Nordhorn
SEQUENCE:0
SUMMARY:Multivisionsshow - mit Ralf Schwan in Indonesien
UID:e_101186129_iv0
URL:http://pages.destination.one/de/grafschaft-bentheim-tourismus/streaming
 /detail/Event/e_101186129/multivisionsshow-mit-ralf-schwan-in-indonesien
END:VEVENT
BEGIN:VTIMEZONE
TZID:Europe/Berlin
X-LIC-LOCATION:Europe/Berlin
BEGIN:DAYLIGHT
DTSTART:19700329T020000
RRULE:FREQ=YEARLY;BYDAY=-1SU;BYMONTH=3
TZNAME:CEST
TZOFFSETFROM:+0100
TZOFFSETTO:+0200
END:DAYLIGHT
BEGIN:STANDARD
DTSTART:19701025T030000
RRULE:FREQ=YEARLY;BYDAY=-1SU;BYMONTH=10
TZNAME:CET
TZOFFSETFROM:+0200
TZOFFSETTO:+0100
END:STANDARD
END:VTIMEZONE
END:VCALENDAR
