BEGIN:VCALENDAR
VERSION:2.0
PRODID:-//destination.one//NONSGML destination.meta API//DE
X-WR-CALDESC:A calendar powered by destination.meta
X-WR-CALNAME:grafschaft-bentheim-tourismus Kalender via destination.meta
BEGIN:VEVENT
CATEGORIES:Bühnenkunst
CATEGORIES:Figurentheater
CATEGORIES:Kunst und Kultur sonstige
CATEGORIES:Musiktheater
CATEGORIES:Stadtfest
CATEGORIES:Stadtteilfest
CATEGORIES:Tanztheater
CATEGORIES:Theater sonstige
DESCRIPTION:\n\nmehr Informationen unter http://pages.destination.one/de/gr
 afschaft-bentheim-tourismus/streaming/detail/Event/e_101103278/stra-enkult
 urfest
DTEND;TZID=Europe/Berlin:20260904T235900
DTSTAMP:20260421T075446Z
DTSTART;TZID=Europe/Berlin:20260904T150000
GEO:52.435565;7.070658
LOCATION:Nordhorn\, Innenstadt\, Hauptstraße 1\, Nordhorn
ORGANIZER;CN=Kulturamt der Stadt Nordhorn:http://www.nordhorn.de/
SEQUENCE:0
SUMMARY:Straßenkulturfest
UID:e_101103278_iv0
URL:http://pages.destination.one/de/grafschaft-bentheim-tourismus/streaming
 /detail/Event/e_101103278/stra-enkulturfest
END:VEVENT
BEGIN:VEVENT
CATEGORIES:Bühnenkunst
CATEGORIES:Figurentheater
CATEGORIES:Kunst und Kultur sonstige
CATEGORIES:Musiktheater
CATEGORIES:Stadtfest
CATEGORIES:Stadtteilfest
CATEGORIES:Tanztheater
CATEGORIES:Theater sonstige
DESCRIPTION:\n\nmehr Informationen unter http://pages.destination.one/de/gr
 afschaft-bentheim-tourismus/streaming/detail/Event/e_101103278/stra-enkult
 urfest
DTEND;TZID=Europe/Berlin:20260904T235900
DTSTAMP:20260421T075446Z
DTSTART;TZID=Europe/Berlin:20260904T200000
GEO:52.435565;7.070658
LOCATION:Nordhorn\, Innenstadt\, Hauptstraße 1\, Nordhorn
ORGANIZER;CN=Kulturamt der Stadt Nordhorn:http://www.nordhorn.de/
SEQUENCE:0
SUMMARY:Straßenkulturfest
UID:e_101103278_iv1
URL:http://pages.destination.one/de/grafschaft-bentheim-tourismus/streaming
 /detail/Event/e_101103278/stra-enkulturfest
END:VEVENT
BEGIN:VEVENT
CATEGORIES:Bühnenkunst
CATEGORIES:Figurentheater
CATEGORIES:Kunst und Kultur sonstige
CATEGORIES:Musiktheater
CATEGORIES:Stadtfest
CATEGORIES:Stadtteilfest
CATEGORIES:Tanztheater
CATEGORIES:Theater sonstige
DESCRIPTION:\n\nmehr Informationen unter http://pages.destination.one/de/gr
 afschaft-bentheim-tourismus/streaming/detail/Event/e_101103278/stra-enkult
 urfest
DTEND;TZID=Europe/Berlin:20260905T180000
DTSTAMP:20260421T075446Z
DTSTART;TZID=Europe/Berlin:20260905T130000
GEO:52.435565;7.070658
LOCATION:Nordhorn\, Innenstadt\, Hauptstraße 1\, Nordhorn
ORGANIZER;CN=Kulturamt der Stadt Nordhorn:http://www.nordhorn.de/
SEQUENCE:0
SUMMARY:Straßenkulturfest
UID:e_101103278_iv2
URL:http://pages.destination.one/de/grafschaft-bentheim-tourismus/streaming
 /detail/Event/e_101103278/stra-enkulturfest
END:VEVENT
BEGIN:VEVENT
CATEGORIES:Bühnenkunst
CATEGORIES:Figurentheater
CATEGORIES:Kunst und Kultur sonstige
CATEGORIES:Musiktheater
CATEGORIES:Stadtfest
CATEGORIES:Stadtteilfest
CATEGORIES:Tanztheater
CATEGORIES:Theater sonstige
DESCRIPTION:\n\nmehr Informationen unter http://pages.destination.one/de/gr
 afschaft-bentheim-tourismus/streaming/detail/Event/e_101103278/stra-enkult
 urfest
DTEND;TZID=Europe/Berlin:20260905T235900
DTSTAMP:20260421T075446Z
DTSTART;TZID=Europe/Berlin:20260905T200000
GEO:52.435565;7.070658
LOCATION:Nordhorn\, Innenstadt\, Hauptstraße 1\, Nordhorn
ORGANIZER;CN=Kulturamt der Stadt Nordhorn:http://www.nordhorn.de/
SEQUENCE:0
SUMMARY:Straßenkulturfest
UID:e_101103278_iv3
URL:http://pages.destination.one/de/grafschaft-bentheim-tourismus/streaming
 /detail/Event/e_101103278/stra-enkulturfest
END:VEVENT
BEGIN:VEVENT
CATEGORIES:Bühnenkunst
CATEGORIES:Figurentheater
CATEGORIES:Kunst und Kultur sonstige
CATEGORIES:Musiktheater
CATEGORIES:Stadtfest
CATEGORIES:Stadtteilfest
CATEGORIES:Tanztheater
CATEGORIES:Theater sonstige
DESCRIPTION:\n\nmehr Informationen unter http://pages.destination.one/de/gr
 afschaft-bentheim-tourismus/streaming/detail/Event/e_101103278/stra-enkult
 urfest
DTEND;TZID=Europe/Berlin:20260906T180000
DTSTAMP:20260421T075446Z
DTSTART;TZID=Europe/Berlin:20260906T130000
GEO:52.435565;7.070658
LOCATION:Nordhorn\, Innenstadt\, Hauptstraße 1\, Nordhorn
ORGANIZER;CN=Kulturamt der Stadt Nordhorn:http://www.nordhorn.de/
SEQUENCE:0
SUMMARY:Straßenkulturfest
UID:e_101103278_iv4
URL:http://pages.destination.one/de/grafschaft-bentheim-tourismus/streaming
 /detail/Event/e_101103278/stra-enkulturfest
END:VEVENT
BEGIN:VTIMEZONE
TZID:Europe/Berlin
X-LIC-LOCATION:Europe/Berlin
BEGIN:DAYLIGHT
DTSTART:19700329T020000
RRULE:FREQ=YEARLY;BYDAY=-1SU;BYMONTH=3
TZNAME:CEST
TZOFFSETFROM:+0100
TZOFFSETTO:+0200
END:DAYLIGHT
BEGIN:STANDARD
DTSTART:19701025T030000
RRULE:FREQ=YEARLY;BYDAY=-1SU;BYMONTH=10
TZNAME:CET
TZOFFSETFROM:+0200
TZOFFSETTO:+0100
END:STANDARD
END:VTIMEZONE
END:VCALENDAR
