BEGIN:VCALENDAR
VERSION:2.0
PRODID:-//destination.one//NONSGML destination.meta API//DE
X-WR-CALDESC:A calendar powered by destination.meta
X-WR-CALNAME:grafschaft-bentheim-tourismus Kalender via destination.meta
BEGIN:VEVENT
CATEGORIES:Ausstellung
CATEGORIES:Führung
CATEGORIES:Sonderausstellung
CATEGORIES:Themenführung
DESCRIPTION:Öffentliche Themenführung "Von Oestergaard bis Lagerfeld"\nmit 
 Museumsleiterin Nadine Höppner.\n\nmehr Informationen unter http://pages.d
 estination.one/de/grafschaft-bentheim-tourismus/streaming/detail/Event/e_1
 00891593/ffentliche-f-hrung
DTEND;TZID=Europe/Berlin:20240825T120000
DTSTAMP:20260423T091015Z
DTSTART;TZID=Europe/Berlin:20240825T110000
GEO:52.426386;7.070278
LOCATION:Stadtmuseum Nordhorn im NINO Hochbau\, NINO-Allee 11\, Nordhorn
ORGANIZER;CN=Stadtmuseum Nordhorn:mailto:kontakt@stadtmuseum-nordhorn.de
SEQUENCE:0
SUMMARY:Öffentliche Führung
UID:e_100891593_iv0
URL:http://pages.destination.one/de/grafschaft-bentheim-tourismus/streaming
 /detail/Event/e_100891593/ffentliche-f-hrung
END:VEVENT
BEGIN:VEVENT
CATEGORIES:Ausstellung
CATEGORIES:Führung
CATEGORIES:Sonderausstellung
CATEGORIES:Themenführung
DESCRIPTION:Öffentliche Themenführung "Von Oestergaard bis Lagerfeld"\nmit 
 Museumsleiterin Nadine Höppner.\n\nmehr Informationen unter http://pages.d
 estination.one/de/grafschaft-bentheim-tourismus/streaming/detail/Event/e_1
 00891593/ffentliche-f-hrung
DTEND;TZID=Europe/Berlin:20260503T235900
DTSTAMP:20260423T091015Z
DTSTART;TZID=Europe/Berlin:20260503T113000
GEO:52.426386;7.070278
LOCATION:Stadtmuseum Nordhorn im NINO Hochbau\, NINO-Allee 11\, Nordhorn
ORGANIZER;CN=Stadtmuseum Nordhorn:mailto:kontakt@stadtmuseum-nordhorn.de
SEQUENCE:0
SUMMARY:Öffentliche Führung
UID:e_100891593_iv1
URL:http://pages.destination.one/de/grafschaft-bentheim-tourismus/streaming
 /detail/Event/e_100891593/ffentliche-f-hrung
END:VEVENT
BEGIN:VTIMEZONE
TZID:Europe/Berlin
X-LIC-LOCATION:Europe/Berlin
BEGIN:DAYLIGHT
DTSTART:19700329T020000
RRULE:FREQ=YEARLY;BYDAY=-1SU;BYMONTH=3
TZNAME:CEST
TZOFFSETFROM:+0100
TZOFFSETTO:+0200
END:DAYLIGHT
BEGIN:STANDARD
DTSTART:19701025T030000
RRULE:FREQ=YEARLY;BYDAY=-1SU;BYMONTH=10
TZNAME:CET
TZOFFSETFROM:+0200
TZOFFSETTO:+0100
END:STANDARD
END:VTIMEZONE
END:VCALENDAR
