BEGIN:VCALENDAR
VERSION:2.0
PRODID:-//destination.one//NONSGML destination.meta API//DE
X-WR-CALDESC:A calendar powered by destination.meta
X-WR-CALNAME:grafschaft-bentheim-tourismus Kalender via destination.meta
BEGIN:VEVENT
CATEGORIES:Branchenmesse
CATEGORIES:Fachmesse
CATEGORIES:Messe sonstige
CATEGORIES:Verbrauchermesse
DESCRIPTION:\n\nmehr Informationen unter http://pages.destination.one/de/gr
 afschaft-bentheim-tourismus/streaming/detail/Event/e_100890102/arbeitswelt
 en-messe
DTEND;TZID=Europe/Berlin;VALUE=DATE:20240921
DTSTAMP:20260421T084645Z
DTSTART;TZID=Europe/Berlin;VALUE=DATE:20240919
GEO:52.432231;7.075088
LOCATION:Kulturzentrum Alte Weberei\, Vechteaue 2\, Nordhorn
ORGANIZER;CN=zengamedia | agentur für marketing & event :mailto:info@zengam
 edia.de
SEQUENCE:0
SUMMARY:Arbeitswelten Messe
UID:e_100890102_iv0
URL:http://pages.destination.one/de/grafschaft-bentheim-tourismus/streaming
 /detail/Event/e_100890102/arbeitswelten-messe
END:VEVENT
BEGIN:VEVENT
CATEGORIES:Branchenmesse
CATEGORIES:Fachmesse
CATEGORIES:Messe sonstige
CATEGORIES:Verbrauchermesse
DESCRIPTION:\n\nmehr Informationen unter http://pages.destination.one/de/gr
 afschaft-bentheim-tourismus/streaming/detail/Event/e_100890102/arbeitswelt
 en-messe
DTEND;TZID=Europe/Berlin:20260916T130000
DTSTAMP:20260421T084645Z
DTSTART;TZID=Europe/Berlin:20260916T090000
GEO:52.432231;7.075088
LOCATION:Kulturzentrum Alte Weberei\, Vechteaue 2\, Nordhorn
ORGANIZER;CN=zengamedia | agentur für marketing & event :mailto:info@zengam
 edia.de
SEQUENCE:0
SUMMARY:Arbeitswelten Messe
UID:e_100890102_iv1
URL:http://pages.destination.one/de/grafschaft-bentheim-tourismus/streaming
 /detail/Event/e_100890102/arbeitswelten-messe
END:VEVENT
BEGIN:VEVENT
CATEGORIES:Branchenmesse
CATEGORIES:Fachmesse
CATEGORIES:Messe sonstige
CATEGORIES:Verbrauchermesse
DESCRIPTION:\n\nmehr Informationen unter http://pages.destination.one/de/gr
 afschaft-bentheim-tourismus/streaming/detail/Event/e_100890102/arbeitswelt
 en-messe
DTEND;TZID=Europe/Berlin:20260917T130000
DTSTAMP:20260421T084645Z
DTSTART;TZID=Europe/Berlin:20260917T090000
GEO:52.432231;7.075088
LOCATION:Kulturzentrum Alte Weberei\, Vechteaue 2\, Nordhorn
ORGANIZER;CN=zengamedia | agentur für marketing & event :mailto:info@zengam
 edia.de
SEQUENCE:0
SUMMARY:Arbeitswelten Messe
UID:e_100890102_iv2
URL:http://pages.destination.one/de/grafschaft-bentheim-tourismus/streaming
 /detail/Event/e_100890102/arbeitswelten-messe
END:VEVENT
BEGIN:VEVENT
CATEGORIES:Branchenmesse
CATEGORIES:Fachmesse
CATEGORIES:Messe sonstige
CATEGORIES:Verbrauchermesse
DESCRIPTION:\n\nmehr Informationen unter http://pages.destination.one/de/gr
 afschaft-bentheim-tourismus/streaming/detail/Event/e_100890102/arbeitswelt
 en-messe
DTEND;TZID=Europe/Berlin:20260917T200000
DTSTAMP:20260421T084645Z
DTSTART;TZID=Europe/Berlin:20260917T170000
GEO:52.432231;7.075088
LOCATION:Kulturzentrum Alte Weberei\, Vechteaue 2\, Nordhorn
ORGANIZER;CN=zengamedia | agentur für marketing & event :mailto:info@zengam
 edia.de
SEQUENCE:0
SUMMARY:Arbeitswelten Messe
UID:e_100890102_iv3
URL:http://pages.destination.one/de/grafschaft-bentheim-tourismus/streaming
 /detail/Event/e_100890102/arbeitswelten-messe
END:VEVENT
BEGIN:VEVENT
CATEGORIES:Branchenmesse
CATEGORIES:Fachmesse
CATEGORIES:Messe sonstige
CATEGORIES:Verbrauchermesse
DESCRIPTION:\n\nmehr Informationen unter http://pages.destination.one/de/gr
 afschaft-bentheim-tourismus/streaming/detail/Event/e_100890102/arbeitswelt
 en-messe
DTEND;TZID=Europe/Berlin:20260918T130000
DTSTAMP:20260421T084645Z
DTSTART;TZID=Europe/Berlin:20260918T090000
GEO:52.432231;7.075088
LOCATION:Kulturzentrum Alte Weberei\, Vechteaue 2\, Nordhorn
ORGANIZER;CN=zengamedia | agentur für marketing & event :mailto:info@zengam
 edia.de
SEQUENCE:0
SUMMARY:Arbeitswelten Messe
UID:e_100890102_iv4
URL:http://pages.destination.one/de/grafschaft-bentheim-tourismus/streaming
 /detail/Event/e_100890102/arbeitswelten-messe
END:VEVENT
BEGIN:VTIMEZONE
TZID:Europe/Berlin
X-LIC-LOCATION:Europe/Berlin
BEGIN:DAYLIGHT
DTSTART:19700329T020000
RRULE:FREQ=YEARLY;BYDAY=-1SU;BYMONTH=3
TZNAME:CEST
TZOFFSETFROM:+0100
TZOFFSETTO:+0200
END:DAYLIGHT
BEGIN:STANDARD
DTSTART:19701025T030000
RRULE:FREQ=YEARLY;BYDAY=-1SU;BYMONTH=10
TZNAME:CET
TZOFFSETFROM:+0200
TZOFFSETTO:+0100
END:STANDARD
END:VTIMEZONE
END:VCALENDAR
