BEGIN:VCALENDAR
VERSION:2.0
PRODID:-//destination.one//NONSGML destination.meta API//DE
X-WR-CALDESC:A calendar powered by destination.meta
X-WR-CALNAME:grafschaft-bentheim-tourismus Kalender via destination.meta
BEGIN:VEVENT
CATEGORIES:Sport sonstige
DESCRIPTION:Fitness und Entspannung unter freiem Himmel!\n\nmehr Informatio
 nen unter http://pages.destination.one/de/grafschaft-bentheim-tourismus/st
 reaming/detail/Event/e_100449059/qigong-outdoorangebot
DTEND;TZID=Europe/Berlin:20220518T120000
DTSTAMP:20260422T082533Z
DTSTART;TZID=Europe/Berlin:20220518T110000
GEO:52.302220;7.133766
LOCATION:Ferienresort Bad Bentheim\, Wiese vor dem Hauptgebäude\, Gut Lange
 n 3\, Bad Bentheim
ORGANIZER;CN=Touristinformation Bad Bentheim:mailto:info@badbentheim.de
RRULE:FREQ=WEEKLY;UNTIL=20220914T090000;BYDAY=WE
SEQUENCE:0
SUMMARY:Qigong - Outdoorangebot
UID:e_100449059_iv0
URL:http://pages.destination.one/de/grafschaft-bentheim-tourismus/streaming
 /detail/Event/e_100449059/qigong-outdoorangebot
END:VEVENT
BEGIN:VEVENT
CATEGORIES:Sport sonstige
DESCRIPTION:Fitness und Entspannung unter freiem Himmel!\n\nmehr Informatio
 nen unter http://pages.destination.one/de/grafschaft-bentheim-tourismus/st
 reaming/detail/Event/e_100449059/qigong-outdoorangebot
DTEND;TZID=Europe/Berlin:20230503T120000
DTSTAMP:20260422T082533Z
DTSTART;TZID=Europe/Berlin:20230503T110000
GEO:52.302220;7.133766
LOCATION:Ferienresort Bad Bentheim\, Wiese vor dem Hauptgebäude\, Gut Lange
 n 3\, Bad Bentheim
ORGANIZER;CN=Touristinformation Bad Bentheim:mailto:info@badbentheim.de
RRULE:FREQ=WEEKLY;UNTIL=20230725T100000;BYDAY=WE
SEQUENCE:0
SUMMARY:Qigong - Outdoorangebot
UID:e_100449059_iv1
URL:http://pages.destination.one/de/grafschaft-bentheim-tourismus/streaming
 /detail/Event/e_100449059/qigong-outdoorangebot
END:VEVENT
BEGIN:VEVENT
CATEGORIES:Sport sonstige
DESCRIPTION:Fitness und Entspannung unter freiem Himmel!\n\nmehr Informatio
 nen unter http://pages.destination.one/de/grafschaft-bentheim-tourismus/st
 reaming/detail/Event/e_100449059/qigong-outdoorangebot
DTEND;TZID=Europe/Berlin:20230802T120000
DTSTAMP:20260422T082533Z
DTSTART;TZID=Europe/Berlin:20230802T110000
GEO:52.302220;7.133766
LOCATION:Ferienresort Bad Bentheim\, Wiese vor dem Hauptgebäude\, Gut Lange
 n 3\, Bad Bentheim
ORGANIZER;CN=Touristinformation Bad Bentheim:mailto:info@badbentheim.de
RRULE:FREQ=WEEKLY;UNTIL=20230927T100000;BYDAY=WE
SEQUENCE:0
SUMMARY:Qigong - Outdoorangebot
UID:e_100449059_iv2
URL:http://pages.destination.one/de/grafschaft-bentheim-tourismus/streaming
 /detail/Event/e_100449059/qigong-outdoorangebot
END:VEVENT
BEGIN:VEVENT
CATEGORIES:Sport sonstige
DESCRIPTION:Fitness und Entspannung unter freiem Himmel!\n\nmehr Informatio
 nen unter http://pages.destination.one/de/grafschaft-bentheim-tourismus/st
 reaming/detail/Event/e_100449059/qigong-outdoorangebot
DTEND;TZID=Europe/Berlin:20240508T120000
DTSTAMP:20260422T082533Z
DTSTART;TZID=Europe/Berlin:20240508T110000
GEO:52.302220;7.133766
LOCATION:Ferienresort Bad Bentheim\, Wiese vor dem Hauptgebäude\, Gut Lange
 n 3\, Bad Bentheim
ORGANIZER;CN=Touristinformation Bad Bentheim:mailto:info@badbentheim.de
RRULE:FREQ=WEEKLY;UNTIL=20240925T100000;BYDAY=WE
SEQUENCE:0
SUMMARY:Qigong - Outdoorangebot
UID:e_100449059_iv3
URL:http://pages.destination.one/de/grafschaft-bentheim-tourismus/streaming
 /detail/Event/e_100449059/qigong-outdoorangebot
END:VEVENT
BEGIN:VEVENT
CATEGORIES:Sport sonstige
DESCRIPTION:Fitness und Entspannung unter freiem Himmel!\n\nmehr Informatio
 nen unter http://pages.destination.one/de/grafschaft-bentheim-tourismus/st
 reaming/detail/Event/e_100449059/qigong-outdoorangebot
DTEND;TZID=Europe/Berlin:20250508T113000
DTSTAMP:20260422T082533Z
DTSTART;TZID=Europe/Berlin:20250508T103000
GEO:52.302220;7.133766
LOCATION:Ferienresort Bad Bentheim\, Wiese vor dem Hauptgebäude\, Gut Lange
 n 3\, Bad Bentheim
ORGANIZER;CN=Touristinformation Bad Bentheim:mailto:info@badbentheim.de
RRULE:FREQ=WEEKLY;UNTIL=20250528T093000;BYDAY=TH
SEQUENCE:0
SUMMARY:Qigong - Outdoorangebot
UID:e_100449059_iv4
URL:http://pages.destination.one/de/grafschaft-bentheim-tourismus/streaming
 /detail/Event/e_100449059/qigong-outdoorangebot
END:VEVENT
BEGIN:VEVENT
CATEGORIES:Sport sonstige
DESCRIPTION:Fitness und Entspannung unter freiem Himmel!\n\nmehr Informatio
 nen unter http://pages.destination.one/de/grafschaft-bentheim-tourismus/st
 reaming/detail/Event/e_100449059/qigong-outdoorangebot
DTEND;TZID=Europe/Berlin:20250604T113000
DTSTAMP:20260422T082533Z
DTSTART;TZID=Europe/Berlin:20250604T103000
GEO:52.302220;7.133766
LOCATION:Ferienresort Bad Bentheim\, Wiese vor dem Hauptgebäude\, Gut Lange
 n 3\, Bad Bentheim
ORGANIZER;CN=Touristinformation Bad Bentheim:mailto:info@badbentheim.de
SEQUENCE:0
SUMMARY:Qigong - Outdoorangebot
UID:e_100449059_iv5
URL:http://pages.destination.one/de/grafschaft-bentheim-tourismus/streaming
 /detail/Event/e_100449059/qigong-outdoorangebot
END:VEVENT
BEGIN:VEVENT
CATEGORIES:Sport sonstige
DESCRIPTION:Fitness und Entspannung unter freiem Himmel!\n\nmehr Informatio
 nen unter http://pages.destination.one/de/grafschaft-bentheim-tourismus/st
 reaming/detail/Event/e_100449059/qigong-outdoorangebot
DTEND;TZID=Europe/Berlin:20250612T113000
DTSTAMP:20260422T082533Z
DTSTART;TZID=Europe/Berlin:20250612T103000
GEO:52.302220;7.133766
LOCATION:Ferienresort Bad Bentheim\, Wiese vor dem Hauptgebäude\, Gut Lange
 n 3\, Bad Bentheim
ORGANIZER;CN=Touristinformation Bad Bentheim:mailto:info@badbentheim.de
RRULE:FREQ=WEEKLY;UNTIL=20250925T093000;BYDAY=TH
SEQUENCE:0
SUMMARY:Qigong - Outdoorangebot
UID:e_100449059_iv6
URL:http://pages.destination.one/de/grafschaft-bentheim-tourismus/streaming
 /detail/Event/e_100449059/qigong-outdoorangebot
END:VEVENT
BEGIN:VEVENT
CATEGORIES:Sport sonstige
DESCRIPTION:Fitness und Entspannung unter freiem Himmel!\n\nmehr Informatio
 nen unter http://pages.destination.one/de/grafschaft-bentheim-tourismus/st
 reaming/detail/Event/e_100449059/qigong-outdoorangebot
DTEND;TZID=Europe/Berlin:20260507T113000
DTSTAMP:20260422T082533Z
DTSTART;TZID=Europe/Berlin:20260507T103000
GEO:52.302220;7.133766
LOCATION:Ferienresort Bad Bentheim\, Wiese vor dem Hauptgebäude\, Gut Lange
 n 3\, Bad Bentheim
ORGANIZER;CN=Touristinformation Bad Bentheim:mailto:info@badbentheim.de
RRULE:FREQ=WEEKLY;UNTIL=20260924T093000;BYDAY=TH
SEQUENCE:0
SUMMARY:Qigong - Outdoorangebot
UID:e_100449059_iv7
URL:http://pages.destination.one/de/grafschaft-bentheim-tourismus/streaming
 /detail/Event/e_100449059/qigong-outdoorangebot
END:VEVENT
BEGIN:VTIMEZONE
TZID:Europe/Berlin
X-LIC-LOCATION:Europe/Berlin
BEGIN:DAYLIGHT
DTSTART:19700329T020000
RRULE:FREQ=YEARLY;BYDAY=-1SU;BYMONTH=3
TZNAME:CEST
TZOFFSETFROM:+0100
TZOFFSETTO:+0200
END:DAYLIGHT
BEGIN:STANDARD
DTSTART:19701025T030000
RRULE:FREQ=YEARLY;BYDAY=-1SU;BYMONTH=10
TZNAME:CET
TZOFFSETFROM:+0200
TZOFFSETTO:+0100
END:STANDARD
END:VTIMEZONE
END:VCALENDAR
