BEGIN:VCALENDAR
VERSION:2.0
PRODID:-//destination.one//NONSGML destination.meta API//DE
X-WR-CALDESC:A calendar powered by destination.meta
X-WR-CALNAME:grafschaft-bentheim-tourismus Kalender via destination.meta
BEGIN:VEVENT
CATEGORIES:Open Air sonstige
CATEGORIES:Vereinsaktivität
CATEGORIES:Tradition\, Brauchtum\, Volksfest sonstige
DESCRIPTION:Machen Sie eine Zeitreise!\n\nmehr Informationen unter http://p
 ages.destination.one/de/grafschaft-bentheim-tourismus/streaming/detail/Eve
 nt/e_100270471/oldtimermonatstreffen
DTEND;TZID=Europe/Berlin:20200802T120000
DTSTAMP:20260421T075440Z
DTSTART;TZID=Europe/Berlin:20200802T100000
GEO:52.301972;7.156513
LOCATION:Herrenberg - unterhalb der Burg\, Schlossstraße\, Bad Bentheim
ORGANIZER;CN=Grafschafter Oldtimer-Freunde:mailto:eckhard-stueker@web.de
RRULE:FREQ=MONTHLY;UNTIL=20201004T080000;BYDAY=1SU
SEQUENCE:0
SUMMARY:Oldtimermonatstreffen
UID:e_100270471_iv0
URL:http://pages.destination.one/de/grafschaft-bentheim-tourismus/streaming
 /detail/Event/e_100270471/oldtimermonatstreffen
END:VEVENT
BEGIN:VEVENT
CATEGORIES:Open Air sonstige
CATEGORIES:Vereinsaktivität
CATEGORIES:Tradition\, Brauchtum\, Volksfest sonstige
DESCRIPTION:Machen Sie eine Zeitreise!\n\nmehr Informationen unter http://p
 ages.destination.one/de/grafschaft-bentheim-tourismus/streaming/detail/Eve
 nt/e_100270471/oldtimermonatstreffen
DTEND;TZID=Europe/Berlin:20220501T123000
DTSTAMP:20260421T075440Z
DTSTART;TZID=Europe/Berlin:20220501T100000
GEO:52.301972;7.156513
LOCATION:Herrenberg - unterhalb der Burg\, Schlossstraße\, Bad Bentheim
ORGANIZER;CN=Grafschafter Oldtimer-Freunde:mailto:eckhard-stueker@web.de
RRULE:FREQ=MONTHLY;COUNT=6;BYDAY=1SU
SEQUENCE:0
SUMMARY:Oldtimermonatstreffen
UID:e_100270471_iv1
URL:http://pages.destination.one/de/grafschaft-bentheim-tourismus/streaming
 /detail/Event/e_100270471/oldtimermonatstreffen
END:VEVENT
BEGIN:VEVENT
CATEGORIES:Open Air sonstige
CATEGORIES:Vereinsaktivität
CATEGORIES:Tradition\, Brauchtum\, Volksfest sonstige
DESCRIPTION:Machen Sie eine Zeitreise!\n\nmehr Informationen unter http://p
 ages.destination.one/de/grafschaft-bentheim-tourismus/streaming/detail/Eve
 nt/e_100270471/oldtimermonatstreffen
DTEND;TZID=Europe/Berlin:20230507T130000
DTSTAMP:20260421T075440Z
DTSTART;TZID=Europe/Berlin:20230507T100000
GEO:52.301972;7.156513
LOCATION:Herrenberg - unterhalb der Burg\, Schlossstraße\, Bad Bentheim
ORGANIZER;CN=Grafschafter Oldtimer-Freunde:mailto:eckhard-stueker@web.de
RRULE:FREQ=MONTHLY;UNTIL=20231001T080000;BYDAY=1SU
SEQUENCE:0
SUMMARY:Oldtimermonatstreffen
UID:e_100270471_iv2
URL:http://pages.destination.one/de/grafschaft-bentheim-tourismus/streaming
 /detail/Event/e_100270471/oldtimermonatstreffen
END:VEVENT
BEGIN:VEVENT
CATEGORIES:Open Air sonstige
CATEGORIES:Vereinsaktivität
CATEGORIES:Tradition\, Brauchtum\, Volksfest sonstige
DESCRIPTION:Machen Sie eine Zeitreise!\n\nmehr Informationen unter http://p
 ages.destination.one/de/grafschaft-bentheim-tourismus/streaming/detail/Eve
 nt/e_100270471/oldtimermonatstreffen
DTEND;TZID=Europe/Berlin:20240505T130000
DTSTAMP:20260421T075440Z
DTSTART;TZID=Europe/Berlin:20240505T100000
GEO:52.301972;7.156513
LOCATION:Herrenberg - unterhalb der Burg\, Schlossstraße\, Bad Bentheim
ORGANIZER;CN=Grafschafter Oldtimer-Freunde:mailto:eckhard-stueker@web.de
RRULE:FREQ=MONTHLY;UNTIL=20241006T110000;BYDAY=1SU
SEQUENCE:0
SUMMARY:Oldtimermonatstreffen
UID:e_100270471_iv3
URL:http://pages.destination.one/de/grafschaft-bentheim-tourismus/streaming
 /detail/Event/e_100270471/oldtimermonatstreffen
END:VEVENT
BEGIN:VEVENT
CATEGORIES:Open Air sonstige
CATEGORIES:Vereinsaktivität
CATEGORIES:Tradition\, Brauchtum\, Volksfest sonstige
DESCRIPTION:Machen Sie eine Zeitreise!\n\nmehr Informationen unter http://p
 ages.destination.one/de/grafschaft-bentheim-tourismus/streaming/detail/Eve
 nt/e_100270471/oldtimermonatstreffen
DTEND;TZID=Europe/Berlin:20250504T130000
DTSTAMP:20260421T075440Z
DTSTART;TZID=Europe/Berlin:20250504T100000
GEO:52.301972;7.156513
LOCATION:Herrenberg - unterhalb der Burg\, Schlossstraße\, Bad Bentheim
ORGANIZER;CN=Grafschafter Oldtimer-Freunde:mailto:eckhard-stueker@web.de
RRULE:FREQ=MONTHLY;UNTIL=20251005T110000;BYDAY=1SU
SEQUENCE:0
SUMMARY:Oldtimermonatstreffen
UID:e_100270471_iv4
URL:http://pages.destination.one/de/grafschaft-bentheim-tourismus/streaming
 /detail/Event/e_100270471/oldtimermonatstreffen
END:VEVENT
BEGIN:VEVENT
CATEGORIES:Open Air sonstige
CATEGORIES:Vereinsaktivität
CATEGORIES:Tradition\, Brauchtum\, Volksfest sonstige
DESCRIPTION:Machen Sie eine Zeitreise!\n\nmehr Informationen unter http://p
 ages.destination.one/de/grafschaft-bentheim-tourismus/streaming/detail/Eve
 nt/e_100270471/oldtimermonatstreffen
DTEND;TZID=Europe/Berlin:20260503T130000
DTSTAMP:20260421T075440Z
DTSTART;TZID=Europe/Berlin:20260503T100000
GEO:52.301972;7.156513
LOCATION:Herrenberg - unterhalb der Burg\, Schlossstraße\, Bad Bentheim
ORGANIZER;CN=Grafschafter Oldtimer-Freunde:mailto:eckhard-stueker@web.de
SEQUENCE:0
SUMMARY:Oldtimermonatstreffen
UID:e_100270471_iv5
URL:http://pages.destination.one/de/grafschaft-bentheim-tourismus/streaming
 /detail/Event/e_100270471/oldtimermonatstreffen
END:VEVENT
BEGIN:VEVENT
CATEGORIES:Open Air sonstige
CATEGORIES:Vereinsaktivität
CATEGORIES:Tradition\, Brauchtum\, Volksfest sonstige
DESCRIPTION:Machen Sie eine Zeitreise!\n\nmehr Informationen unter http://p
 ages.destination.one/de/grafschaft-bentheim-tourismus/streaming/detail/Eve
 nt/e_100270471/oldtimermonatstreffen
DTEND;TZID=Europe/Berlin:20260607T130000
DTSTAMP:20260421T075440Z
DTSTART;TZID=Europe/Berlin:20260607T100000
GEO:52.301972;7.156513
LOCATION:Herrenberg - unterhalb der Burg\, Schlossstraße\, Bad Bentheim
ORGANIZER;CN=Grafschafter Oldtimer-Freunde:mailto:eckhard-stueker@web.de
SEQUENCE:0
SUMMARY:Oldtimermonatstreffen
UID:e_100270471_iv6
URL:http://pages.destination.one/de/grafschaft-bentheim-tourismus/streaming
 /detail/Event/e_100270471/oldtimermonatstreffen
END:VEVENT
BEGIN:VEVENT
CATEGORIES:Open Air sonstige
CATEGORIES:Vereinsaktivität
CATEGORIES:Tradition\, Brauchtum\, Volksfest sonstige
DESCRIPTION:Machen Sie eine Zeitreise!\n\nmehr Informationen unter http://p
 ages.destination.one/de/grafschaft-bentheim-tourismus/streaming/detail/Eve
 nt/e_100270471/oldtimermonatstreffen
DTEND;TZID=Europe/Berlin:20260705T130000
DTSTAMP:20260421T075440Z
DTSTART;TZID=Europe/Berlin:20260705T100000
GEO:52.301972;7.156513
LOCATION:Herrenberg - unterhalb der Burg\, Schlossstraße\, Bad Bentheim
ORGANIZER;CN=Grafschafter Oldtimer-Freunde:mailto:eckhard-stueker@web.de
SEQUENCE:0
SUMMARY:Oldtimermonatstreffen
UID:e_100270471_iv7
URL:http://pages.destination.one/de/grafschaft-bentheim-tourismus/streaming
 /detail/Event/e_100270471/oldtimermonatstreffen
END:VEVENT
BEGIN:VEVENT
CATEGORIES:Open Air sonstige
CATEGORIES:Vereinsaktivität
CATEGORIES:Tradition\, Brauchtum\, Volksfest sonstige
DESCRIPTION:Machen Sie eine Zeitreise!\n\nmehr Informationen unter http://p
 ages.destination.one/de/grafschaft-bentheim-tourismus/streaming/detail/Eve
 nt/e_100270471/oldtimermonatstreffen
DTEND;TZID=Europe/Berlin:20260802T130000
DTSTAMP:20260421T075440Z
DTSTART;TZID=Europe/Berlin:20260802T100000
GEO:52.301972;7.156513
LOCATION:Herrenberg - unterhalb der Burg\, Schlossstraße\, Bad Bentheim
ORGANIZER;CN=Grafschafter Oldtimer-Freunde:mailto:eckhard-stueker@web.de
SEQUENCE:0
SUMMARY:Oldtimermonatstreffen
UID:e_100270471_iv8
URL:http://pages.destination.one/de/grafschaft-bentheim-tourismus/streaming
 /detail/Event/e_100270471/oldtimermonatstreffen
END:VEVENT
BEGIN:VEVENT
CATEGORIES:Open Air sonstige
CATEGORIES:Vereinsaktivität
CATEGORIES:Tradition\, Brauchtum\, Volksfest sonstige
DESCRIPTION:Machen Sie eine Zeitreise!\n\nmehr Informationen unter http://p
 ages.destination.one/de/grafschaft-bentheim-tourismus/streaming/detail/Eve
 nt/e_100270471/oldtimermonatstreffen
DTEND;TZID=Europe/Berlin:20260906T130000
DTSTAMP:20260421T075440Z
DTSTART;TZID=Europe/Berlin:20260906T100000
GEO:52.301972;7.156513
LOCATION:Herrenberg - unterhalb der Burg\, Schlossstraße\, Bad Bentheim
ORGANIZER;CN=Grafschafter Oldtimer-Freunde:mailto:eckhard-stueker@web.de
SEQUENCE:0
SUMMARY:Oldtimermonatstreffen
UID:e_100270471_iv9
URL:http://pages.destination.one/de/grafschaft-bentheim-tourismus/streaming
 /detail/Event/e_100270471/oldtimermonatstreffen
END:VEVENT
BEGIN:VEVENT
CATEGORIES:Open Air sonstige
CATEGORIES:Vereinsaktivität
CATEGORIES:Tradition\, Brauchtum\, Volksfest sonstige
DESCRIPTION:Machen Sie eine Zeitreise!\n\nmehr Informationen unter http://p
 ages.destination.one/de/grafschaft-bentheim-tourismus/streaming/detail/Eve
 nt/e_100270471/oldtimermonatstreffen
DTEND;TZID=Europe/Berlin:20261004T130000
DTSTAMP:20260421T075440Z
DTSTART;TZID=Europe/Berlin:20261004T100000
GEO:52.301972;7.156513
LOCATION:Herrenberg - unterhalb der Burg\, Schlossstraße\, Bad Bentheim
ORGANIZER;CN=Grafschafter Oldtimer-Freunde:mailto:eckhard-stueker@web.de
SEQUENCE:0
SUMMARY:Oldtimermonatstreffen
UID:e_100270471_iv10
URL:http://pages.destination.one/de/grafschaft-bentheim-tourismus/streaming
 /detail/Event/e_100270471/oldtimermonatstreffen
END:VEVENT
BEGIN:VTIMEZONE
TZID:Europe/Berlin
X-LIC-LOCATION:Europe/Berlin
BEGIN:DAYLIGHT
DTSTART:19700329T020000
RRULE:FREQ=YEARLY;BYDAY=-1SU;BYMONTH=3
TZNAME:CEST
TZOFFSETFROM:+0100
TZOFFSETTO:+0200
END:DAYLIGHT
BEGIN:STANDARD
DTSTART:19701025T030000
RRULE:FREQ=YEARLY;BYDAY=-1SU;BYMONTH=10
TZNAME:CET
TZOFFSETFROM:+0200
TZOFFSETTO:+0100
END:STANDARD
END:VTIMEZONE
END:VCALENDAR
