BEGIN:VCALENDAR
VERSION:2.0
PRODID:-//destination.one//NONSGML destination.meta API//DE
X-WR-CALDESC:A calendar powered by destination.meta
X-WR-CALNAME:grafschaft-bentheim-tourismus Kalender via destination.meta
BEGIN:VEVENT
CATEGORIES:Religion sonstige
DESCRIPTION:Ein besonderes Erlebnis\n\nmehr Informationen unter http://page
 s.destination.one/de/grafschaft-bentheim-tourismus/streaming/detail/Event/
 e_100057979/nacht-der-offenen-kirchen
DTEND;TZID=Europe/Berlin:20180817T233000
DTSTAMP:20260423T085222Z
DTSTART;TZID=Europe/Berlin:20180817T190000
GEO:49.516343;8.476040
LOCATION:Kirchen in Bad Bentheim\, Innenstadt\, Bad Bentheim
SEQUENCE:0
SUMMARY:Nacht der offenen Kirchen
UID:e_100057979_iv0
URL:http://pages.destination.one/de/grafschaft-bentheim-tourismus/streaming
 /detail/Event/e_100057979/nacht-der-offenen-kirchen
END:VEVENT
BEGIN:VEVENT
CATEGORIES:Religion sonstige
DESCRIPTION:Ein besonderes Erlebnis\n\nmehr Informationen unter http://page
 s.destination.one/de/grafschaft-bentheim-tourismus/streaming/detail/Event/
 e_100057979/nacht-der-offenen-kirchen
DTEND;TZID=Europe/Berlin:20260619T235900
DTSTAMP:20260423T085222Z
DTSTART;TZID=Europe/Berlin:20260619T190000
GEO:49.516343;8.476040
LOCATION:Kirchen in Bad Bentheim\, Innenstadt\, Bad Bentheim
SEQUENCE:0
SUMMARY:Nacht der offenen Kirchen
UID:e_100057979_iv1
URL:http://pages.destination.one/de/grafschaft-bentheim-tourismus/streaming
 /detail/Event/e_100057979/nacht-der-offenen-kirchen
END:VEVENT
BEGIN:VTIMEZONE
TZID:Europe/Berlin
X-LIC-LOCATION:Europe/Berlin
BEGIN:DAYLIGHT
DTSTART:19700329T020000
RRULE:FREQ=YEARLY;BYDAY=-1SU;BYMONTH=3
TZNAME:CEST
TZOFFSETFROM:+0100
TZOFFSETTO:+0200
END:DAYLIGHT
BEGIN:STANDARD
DTSTART:19701025T030000
RRULE:FREQ=YEARLY;BYDAY=-1SU;BYMONTH=10
TZNAME:CET
TZOFFSETFROM:+0200
TZOFFSETTO:+0100
END:STANDARD
END:VTIMEZONE
END:VCALENDAR
